BEGIN:VCALENDAR
VERSION:2.0
PRODID:-//Dorf- und Heimatverein Isselhorst e.V. - ECPv6.15.20//NONSGML v1.0//EN
CALSCALE:GREGORIAN
METHOD:PUBLISH
X-WR-CALNAME:Dorf- und Heimatverein Isselhorst e.V.
X-ORIGINAL-URL:https://www.heimatverein-isselhorst.de
X-WR-CALDESC:Veranstaltungen für Dorf- und Heimatverein Isselhorst e.V.
REFRESH-INTERVAL;VALUE=DURATION:PT1H
X-Robots-Tag:noindex
X-PUBLISHED-TTL:PT1H
BEGIN:VTIMEZONE
TZID:Europe/Berlin
BEGIN:DAYLIGHT
TZOFFSETFROM:+0100
TZOFFSETTO:+0200
TZNAME:CEST
DTSTART:20230326T010000
END:DAYLIGHT
BEGIN:STANDARD
TZOFFSETFROM:+0200
TZOFFSETTO:+0100
TZNAME:CET
DTSTART:20231029T010000
END:STANDARD
BEGIN:DAYLIGHT
TZOFFSETFROM:+0100
TZOFFSETTO:+0200
TZNAME:CEST
DTSTART:20240331T010000
END:DAYLIGHT
BEGIN:STANDARD
TZOFFSETFROM:+0200
TZOFFSETTO:+0100
TZNAME:CET
DTSTART:20241027T010000
END:STANDARD
BEGIN:DAYLIGHT
TZOFFSETFROM:+0100
TZOFFSETTO:+0200
TZNAME:CEST
DTSTART:20250330T010000
END:DAYLIGHT
BEGIN:STANDARD
TZOFFSETFROM:+0200
TZOFFSETTO:+0100
TZNAME:CET
DTSTART:20251026T010000
END:STANDARD
END:VTIMEZONE
BEGIN:VEVENT
DTSTART;TZID=Europe/Berlin:20240308T200000
DTEND;TZID=Europe/Berlin:20240308T200000
DTSTAMP:20260419T201307
CREATED:20240226T125318Z
LAST-MODIFIED:20240226T125318Z
UID:6928-1709928000-1709928000@www.heimatverein-isselhorst.de
SUMMARY:Filmnacht
DESCRIPTION:Aufgrund der defekten Heizungsanlage in der Kirche musste die Januarfilmnacht verschoben werden. \nEinlass: 19.30 Uhr Filmstart: 20:00 Uhr
URL:https://www.heimatverein-isselhorst.de/veranstaltungen/filmnacht/
LOCATION:kath. Kirche Maria Königin\, Auf dem Felde 8\, Isselhorst
END:VEVENT
BEGIN:VEVENT
DTSTART;TZID=Europe/Berlin:20240321T193000
DTEND;TZID=Europe/Berlin:20240321T193000
DTSTAMP:20260419T201307
CREATED:20240209T210447Z
LAST-MODIFIED:20240209T212938Z
UID:6821-1711049400-1711049400@www.heimatverein-isselhorst.de
SUMMARY:Plattdeutscher Abend (SK)
DESCRIPTION:
URL:https://www.heimatverein-isselhorst.de/veranstaltungen/plattdeutscher-abend-sk/
LOCATION:Holtkämperei\, An der Lutter 1\, Gütersloh\, 33334\, Deutschland
CATEGORIES:Heimatverein Isselhorst
ORGANIZER;CN="Dorf- und Heimatverein Isselhorst e.V.":MAILTO:info@dhvi.de
END:VEVENT
BEGIN:VEVENT
DTSTART;TZID=Europe/Berlin:20240331T170000
DTEND;TZID=Europe/Berlin:20240331T170000
DTSTAMP:20260419T201307
CREATED:20240321T215619Z
LAST-MODIFIED:20240321T215619Z
UID:7002-1711904400-1711904400@www.heimatverein-isselhorst.de
SUMMARY:Osterfeuer bei der Feuerwehr
DESCRIPTION:
URL:https://www.heimatverein-isselhorst.de/veranstaltungen/osterfeuer-bei-der-feuerwehr/
LOCATION:Parkhaus Genossenschaft/ Feuerwehrhaus\, Niehorster Str. 7\, Gütersloh-Isselhorst
END:VEVENT
END:VCALENDAR