BEGIN:VCALENDAR
VERSION:2.0
PRODID:-//Dorf- und Heimatverein Isselhorst e.V. - ECPv6.15.20//NONSGML v1.0//EN
CALSCALE:GREGORIAN
METHOD:PUBLISH
X-WR-CALNAME:Dorf- und Heimatverein Isselhorst e.V.
X-ORIGINAL-URL:https://www.heimatverein-isselhorst.de
X-WR-CALDESC:Veranstaltungen für Dorf- und Heimatverein Isselhorst e.V.
REFRESH-INTERVAL;VALUE=DURATION:PT1H
X-Robots-Tag:noindex
X-PUBLISHED-TTL:PT1H
BEGIN:VTIMEZONE
TZID:Europe/Berlin
BEGIN:DAYLIGHT
TZOFFSETFROM:+0100
TZOFFSETTO:+0200
TZNAME:CEST
DTSTART:20230326T010000
END:DAYLIGHT
BEGIN:STANDARD
TZOFFSETFROM:+0200
TZOFFSETTO:+0100
TZNAME:CET
DTSTART:20231029T010000
END:STANDARD
BEGIN:DAYLIGHT
TZOFFSETFROM:+0100
TZOFFSETTO:+0200
TZNAME:CEST
DTSTART:20240331T010000
END:DAYLIGHT
BEGIN:STANDARD
TZOFFSETFROM:+0200
TZOFFSETTO:+0100
TZNAME:CET
DTSTART:20241027T010000
END:STANDARD
BEGIN:DAYLIGHT
TZOFFSETFROM:+0100
TZOFFSETTO:+0200
TZNAME:CEST
DTSTART:20250330T010000
END:DAYLIGHT
BEGIN:STANDARD
TZOFFSETFROM:+0200
TZOFFSETTO:+0100
TZNAME:CET
DTSTART:20251026T010000
END:STANDARD
END:VTIMEZONE
BEGIN:VEVENT
DTSTART;TZID=Europe/Berlin:20240203T190000
DTEND;TZID=Europe/Berlin:20240203T190000
DTSTAMP:20260419T183402
CREATED:20240113T174850Z
LAST-MODIFIED:20240113T175016Z
UID:6753-1706986800-1706986800@www.heimatverein-isselhorst.de
SUMMARY:Kleinkunst in Isselhorst - Okan Seese
DESCRIPTION:Freuen Sie sich auf einen kurzweiligen Abend.\nWann: 03.02.2024\nWo: Restaurant „Zur Linde“\, Isselhorster Kirchplatz\nEinlass: 19:00 Uhr\nBeginn: 19:30 Uhr\nKartenvorverkauf: 22\,00 € bei Schreibwaren Minuth\, Haller Straße\nAbendkasse: 25\,00 € \nweiterlesen \n 
URL:https://www.heimatverein-isselhorst.de/veranstaltungen/kleinkunst-in-isselhorst-okan-seese/
LOCATION:Restaurant “Zur Linde”\, Isselhorster Kirchplatz 5\, Gütersloh\, 33334\, Deutschland
CATEGORIES:Heimatverein Isselhorst
ORGANIZER;CN="Dorf- und Heimatverein Isselhorst e.V.":MAILTO:info@dhvi.de
END:VEVENT
BEGIN:VEVENT
DTSTART;TZID=Europe/Berlin:20240217T100000
DTEND;TZID=Europe/Berlin:20240217T100000
DTSTAMP:20260419T183402
CREATED:20240113T181703Z
LAST-MODIFIED:20240213T195543Z
UID:6771-1708164000-1708164000@www.heimatverein-isselhorst.de
SUMMARY:Heidepflege auf dem Gelände des ehemaligen Natotanklagers in Niehorst
DESCRIPTION:Die jährliche Heidepflege im Naturschutzgebiet Niehorster Heide steht wieder an. Samstag 17. Februar 2024 ab 10:00 Uhr\, Treffpunkt vor der Eselranch \nweiterlesen
URL:https://www.heimatverein-isselhorst.de/veranstaltungen/heidepflege-auf-dem-gelaende-des-ehemaligen-natotanklagers-in-niehorst/
CATEGORIES:Heimatverein Isselhorst
ATTACH;FMTTYPE=image/jpeg:https://www.heimatverein-isselhorst.de/wp-content/uploads/2024/01/DSC08997-scaled.jpg
END:VEVENT
BEGIN:VEVENT
DTSTART;TZID=Europe/Berlin:20240222T183000
DTEND;TZID=Europe/Berlin:20240222T213000
DTSTAMP:20260419T183402
CREATED:20240209T205851Z
LAST-MODIFIED:20240209T210251Z
UID:6817-1708626600-1708637400@www.heimatverein-isselhorst.de
SUMMARY:Jahreshauptversammlung mit Grünkohlessen
DESCRIPTION:18:30 Uhr: gemeinsames Grünkohlessen oder eine Alternative (Selbstzahler) Anmeldungen erbeten über info@dhvi.de oder 70 88 644 \n19:30 Uhr: Beginn der Jahreshauptversammlung
URL:https://www.heimatverein-isselhorst.de/veranstaltungen/jahreshauptversammlung-mit-gruenkohlessen-2/
LOCATION:Restaurant “Zur Linde”\, Isselhorster Kirchplatz 5\, Gütersloh\, 33334\, Deutschland
CATEGORIES:Heimatverein Isselhorst
ORGANIZER;CN="Dorf- und Heimatverein Isselhorst e.V.":MAILTO:info@dhvi.de
END:VEVENT
BEGIN:VEVENT
DTSTART;TZID=Europe/Berlin:20240224T183000
DTEND;TZID=Europe/Berlin:20240224T183000
DTSTAMP:20260419T183402
CREATED:20240219T204401Z
LAST-MODIFIED:20240219T204401Z
UID:6894-1708799400-1708799400@www.heimatverein-isselhorst.de
SUMMARY:Mahnwache
DESCRIPTION:am Samstag den 24. Februar sind es zwei Jahre\, in denen sich ukrainische Landsleute und auch die westliche Welt um den Frieden in ihrem Land sorgen. Ukrainische Flüchtlinge leben hier in Isselhorst und wünschen sich nichts sehnlicher als nach Hause in ein sicheres Land zurückkehren zu können.
URL:https://www.heimatverein-isselhorst.de/veranstaltungen/mahnwache/
LOCATION:Isselhorster Kirchplatz\, Isselhorster Kirchplatz\, Gütersloh\, 33334\, Deutschland
END:VEVENT
END:VCALENDAR