BEGIN:VCALENDAR
VERSION:2.0
PRODID:-//Dorf- und Heimatverein Isselhorst e.V. - ECPv6.15.20//NONSGML v1.0//EN
CALSCALE:GREGORIAN
METHOD:PUBLISH
X-WR-CALNAME:Dorf- und Heimatverein Isselhorst e.V.
X-ORIGINAL-URL:https://www.heimatverein-isselhorst.de
X-WR-CALDESC:Veranstaltungen für Dorf- und Heimatverein Isselhorst e.V.
REFRESH-INTERVAL;VALUE=DURATION:PT1H
X-Robots-Tag:noindex
X-PUBLISHED-TTL:PT1H
BEGIN:VTIMEZONE
TZID:Europe/Berlin
BEGIN:DAYLIGHT
TZOFFSETFROM:+0100
TZOFFSETTO:+0200
TZNAME:CEST
DTSTART:20230326T010000
END:DAYLIGHT
BEGIN:STANDARD
TZOFFSETFROM:+0200
TZOFFSETTO:+0100
TZNAME:CET
DTSTART:20231029T010000
END:STANDARD
BEGIN:DAYLIGHT
TZOFFSETFROM:+0100
TZOFFSETTO:+0200
TZNAME:CEST
DTSTART:20240331T010000
END:DAYLIGHT
BEGIN:STANDARD
TZOFFSETFROM:+0200
TZOFFSETTO:+0100
TZNAME:CET
DTSTART:20241027T010000
END:STANDARD
BEGIN:DAYLIGHT
TZOFFSETFROM:+0100
TZOFFSETTO:+0200
TZNAME:CEST
DTSTART:20250330T010000
END:DAYLIGHT
BEGIN:STANDARD
TZOFFSETFROM:+0200
TZOFFSETTO:+0100
TZNAME:CET
DTSTART:20251026T010000
END:STANDARD
END:VTIMEZONE
BEGIN:VEVENT
DTSTART;TZID=Europe/Berlin:20240424T084500
DTEND;TZID=Europe/Berlin:20240424T110000
DTSTAMP:20260419T232525
CREATED:20240219T215209Z
LAST-MODIFIED:20240219T215209Z
UID:6911-1713948300-1713956400@www.heimatverein-isselhorst.de
SUMMARY:Projekttag Grundschule
DESCRIPTION:„Global Goals“ Ziele für eine nachhaltige Entwicklung. \nDie Grundschüler der 3. Klasse bauen im Rahmen der Projektwoche einen Nistkasten.
URL:https://www.heimatverein-isselhorst.de/veranstaltungen/projekttag-grundschule/
LOCATION:Holtkämperei\, An der Lutter 1\, Gütersloh\, 33334\, Deutschland
CATEGORIES:Heimatverein Isselhorst
END:VEVENT
END:VCALENDAR