BEGIN:VCALENDAR
VERSION:2.0
PRODID:-//Dorf- und Heimatverein Isselhorst e.V. - ECPv6.15.20//NONSGML v1.0//EN
CALSCALE:GREGORIAN
METHOD:PUBLISH
X-WR-CALNAME:Dorf- und Heimatverein Isselhorst e.V.
X-ORIGINAL-URL:https://www.heimatverein-isselhorst.de
X-WR-CALDESC:Veranstaltungen für Dorf- und Heimatverein Isselhorst e.V.
REFRESH-INTERVAL;VALUE=DURATION:PT1H
X-Robots-Tag:noindex
X-PUBLISHED-TTL:PT1H
BEGIN:VTIMEZONE
TZID:Europe/Berlin
BEGIN:DAYLIGHT
TZOFFSETFROM:+0100
TZOFFSETTO:+0200
TZNAME:CEST
DTSTART:20230326T010000
END:DAYLIGHT
BEGIN:STANDARD
TZOFFSETFROM:+0200
TZOFFSETTO:+0100
TZNAME:CET
DTSTART:20231029T010000
END:STANDARD
BEGIN:DAYLIGHT
TZOFFSETFROM:+0100
TZOFFSETTO:+0200
TZNAME:CEST
DTSTART:20240331T010000
END:DAYLIGHT
BEGIN:STANDARD
TZOFFSETFROM:+0200
TZOFFSETTO:+0100
TZNAME:CET
DTSTART:20241027T010000
END:STANDARD
BEGIN:DAYLIGHT
TZOFFSETFROM:+0100
TZOFFSETTO:+0200
TZNAME:CEST
DTSTART:20250330T010000
END:DAYLIGHT
BEGIN:STANDARD
TZOFFSETFROM:+0200
TZOFFSETTO:+0100
TZNAME:CET
DTSTART:20251026T010000
END:STANDARD
END:VTIMEZONE
BEGIN:VEVENT
DTSTART;TZID=Europe/Berlin:20240404T180000
DTEND;TZID=Europe/Berlin:20240414T180000
DTSTAMP:20260419T232629
CREATED:20240220T194723Z
LAST-MODIFIED:20240220T194723Z
UID:6914-1712253600-1713117600@www.heimatverein-isselhorst.de
SUMMARY:Kunst-Ausstellung
DESCRIPTION:Eine lustre Ausstellung im UnS Kunst Haus \nIn einer erneuernden UnS Kunst Ausstellung mit dem Titel\nLa Notizia:      Vom Fleck weg – kurz vorm Sprung – \neine elementare Kunstraumerweiterung zur Quanten Begegnung \ngrobe Theorie – feinstofflich – kosmologisch geartet\nöffnen Silke Olthoff und Utz Karl Maier in Isselhorst Kunsträume zur Begegnung. \n  \nIhr Bestreben\, in geschöpfter Auseinandersetzung den Kunstraum elementar zu Erweitern\, stellen sich die Fragen nach dem Wie im Wo und dem Wem im Was. Herzübergreifend – Raumöffnend\,  Raumübergreifend – Herzöffnend. \nDurch Objekte der Malerei und Bildhauerei schaffen die in Isselhorst lebenden Künstler Utz Karl Maier und Silke Olthoff Rauminterkonstellationen. Grobe Theorie? \n  \nDie Kunst als Überwindung des pragmatischen Tuns beinhaltet Geistnahrung\, die in ihrer Berührung so geartet wesentlich zur Sensibilisierung der Menschen bei trägt. Dies als eine Notwendigkeit anzusprechen und Ausdruck zu verleihen ist Grundlage dieser Ausstellung. \nDiese geschöpfte Auseinandersetzung mit dem Feinstofflichen in der Kunst und der sinnlichen Wahrnehmung Kunst-Werk und Raum-Stoff\, lässt den Besucher frei die Kunst auf verschiedenen Ebenen auf sich wirken zu lassen\, nachzuspüren\, Teil zu  sein – werden. \nNach dem Motto tastend sehen\, plastisch denken\, elastisch fühlen ist das Künstler-Duo während der Ausstellungszeit anwesend. Silke Olthoff und Utz Karl Maier freuen sich auf Kunsthungrige\, Interessierte und Neugierige. \n  \nGruppen und  Schulklassen mögen sich bitte vorher anmelden unter uns@unskunst.com \nÖffnungszeiten: Do – So. 11 – 18 Uhr \nEintritt: Nach Selbstermessen
URL:https://www.heimatverein-isselhorst.de/veranstaltungen/kunst-ausstellung/
LOCATION:UnS Kunst Haus\, Haller Straße 47\, Gütersloh-Isselhorst
END:VEVENT
BEGIN:VEVENT
DTSTART;TZID=Europe/Berlin:20240413T140000
DTEND;TZID=Europe/Berlin:20240413T140000
DTSTAMP:20260419T232629
CREATED:20240226T124535Z
LAST-MODIFIED:20240404T202224Z
UID:6926-1713016800-1713016800@www.heimatverein-isselhorst.de
SUMMARY:Dorfreinigung
DESCRIPTION:Es ist eine schöne Tradition geworden\, dass freiwillige Grundschüler\, teilweise mit Eltern und Geschwistern\, einmal im Jahr eine Dorfreinigung an besonders vermüllten Straßen vornehmen. Oftmals sind es auch kuriose Dinge\, die von den Kindern eingesammelt werden und durch Mitglieder des Dorf- und Heimatverein entsorgt werden. \nTreffpunkt: 14.00 h auf dem Kirchplatz. Nach erfolgtem Einsammeln gibt es vom Dorf- und Heimatverein wieder Getränke (für die Erwachsenden Kaffee) und Kuchen vor dem Elmendörfer Fass. Der Verein freut sich über eine rege Teilnahme\, es dürfen nicht unbedingt nur Grundschüler sein… \n  \nAnmeldungen über die Schule oder per Mail an info@dhvi.de oder Tel. GT 7088644. \nmehr
URL:https://www.heimatverein-isselhorst.de/veranstaltungen/dorfreinigung-2/
LOCATION:Isselhorster Kirchplatz\, Isselhorster Kirchplatz\, Gütersloh\, 33334\, Deutschland
CATEGORIES:Heimatverein Isselhorst
ORGANIZER;CN="Dorf- und Heimatverein Isselhorst e.V.":MAILTO:info@dhvi.de
END:VEVENT
END:VCALENDAR