BEGIN:VCALENDAR
VERSION:2.0
PRODID:-//Dorf- und Heimatverein Isselhorst e.V. - ECPv6.15.20//NONSGML v1.0//EN
CALSCALE:GREGORIAN
METHOD:PUBLISH
X-WR-CALNAME:Dorf- und Heimatverein Isselhorst e.V.
X-ORIGINAL-URL:https://www.heimatverein-isselhorst.de
X-WR-CALDESC:Veranstaltungen für Dorf- und Heimatverein Isselhorst e.V.
REFRESH-INTERVAL;VALUE=DURATION:PT1H
X-Robots-Tag:noindex
X-PUBLISHED-TTL:PT1H
BEGIN:VTIMEZONE
TZID:Europe/Berlin
BEGIN:DAYLIGHT
TZOFFSETFROM:+0100
TZOFFSETTO:+0200
TZNAME:CEST
DTSTART:20220327T010000
END:DAYLIGHT
BEGIN:STANDARD
TZOFFSETFROM:+0200
TZOFFSETTO:+0100
TZNAME:CET
DTSTART:20221030T010000
END:STANDARD
BEGIN:DAYLIGHT
TZOFFSETFROM:+0100
TZOFFSETTO:+0200
TZNAME:CEST
DTSTART:20230326T010000
END:DAYLIGHT
BEGIN:STANDARD
TZOFFSETFROM:+0200
TZOFFSETTO:+0100
TZNAME:CET
DTSTART:20231029T010000
END:STANDARD
BEGIN:DAYLIGHT
TZOFFSETFROM:+0100
TZOFFSETTO:+0200
TZNAME:CEST
DTSTART:20240331T010000
END:DAYLIGHT
BEGIN:STANDARD
TZOFFSETFROM:+0200
TZOFFSETTO:+0100
TZNAME:CET
DTSTART:20241027T010000
END:STANDARD
END:VTIMEZONE
BEGIN:VEVENT
DTSTART;TZID=Europe/Berlin:20231124T200000
DTEND;TZID=Europe/Berlin:20231124T200000
DTSTAMP:20260419T153806
CREATED:20231114T203212Z
LAST-MODIFIED:20231114T203212Z
UID:6662-1700856000-1700856000@www.heimatverein-isselhorst.de
SUMMARY:Kleinkunst in Isselhorst
DESCRIPTION:Teresa Reichl \n„Obacht\, I Kann Wos!“ \nKleinkunst in Isselhorst \n \n 
URL:https://www.heimatverein-isselhorst.de/veranstaltungen/kleinkunst-in-isselhorst/
LOCATION:Holtkämperei\, An der Lutter 1\, Gütersloh\, 33334\, Deutschland
CATEGORIES:Heimatverein Isselhorst
END:VEVENT
END:VCALENDAR