BEGIN:VCALENDAR
VERSION:2.0
PRODID:-//Dorf- und Heimatverein Isselhorst e.V. - ECPv6.15.20//NONSGML v1.0//EN
CALSCALE:GREGORIAN
METHOD:PUBLISH
X-ORIGINAL-URL:https://www.heimatverein-isselhorst.de
X-WR-CALDESC:Veranstaltungen für Dorf- und Heimatverein Isselhorst e.V.
REFRESH-INTERVAL;VALUE=DURATION:PT1H
X-Robots-Tag:noindex
X-PUBLISHED-TTL:PT1H
BEGIN:VTIMEZONE
TZID:Europe/Berlin
BEGIN:DAYLIGHT
TZOFFSETFROM:+0100
TZOFFSETTO:+0200
TZNAME:CEST
DTSTART:20220327T010000
END:DAYLIGHT
BEGIN:STANDARD
TZOFFSETFROM:+0200
TZOFFSETTO:+0100
TZNAME:CET
DTSTART:20221030T010000
END:STANDARD
BEGIN:DAYLIGHT
TZOFFSETFROM:+0100
TZOFFSETTO:+0200
TZNAME:CEST
DTSTART:20230326T010000
END:DAYLIGHT
BEGIN:STANDARD
TZOFFSETFROM:+0200
TZOFFSETTO:+0100
TZNAME:CET
DTSTART:20231029T010000
END:STANDARD
BEGIN:DAYLIGHT
TZOFFSETFROM:+0100
TZOFFSETTO:+0200
TZNAME:CEST
DTSTART:20240331T010000
END:DAYLIGHT
BEGIN:STANDARD
TZOFFSETFROM:+0200
TZOFFSETTO:+0100
TZNAME:CET
DTSTART:20241027T010000
END:STANDARD
END:VTIMEZONE
BEGIN:VEVENT
DTSTART;TZID=Europe/Berlin:20231012T110000
DTEND;TZID=Europe/Berlin:20231012T110000
DTSTAMP:20260419T165658
CREATED:20230830T205312Z
LAST-MODIFIED:20230830T205312Z
UID:6312-1697108400-1697108400@www.heimatverein-isselhorst.de
SUMMARY:Wir erstellen ein Fotobuch
DESCRIPTION:(auch für Anfänger geeignet) \nMittlerweile werden jedes Jahr Millionen Fotobücher erstellt\, um Erinnerungen zu sichern oder über Erfahrungen zu berichten. Der eine dokumentiert seine letzte Reise\, der andere vielleicht seine Familiengeschichte\, die ersten Jahre des Enkels oder mal ein eigenes Kochbuch. Wie aber bekommt man die Bilder ins Fotobuch\, auf die richtige Seite\, in interessanter Anordnung\, vielleicht mit erklärenden Texten dazu und Bildmaterial\, das man nicht selbst erzeugt\, sondern eingescannt hat? Mittlerweile gibt es kostenlose Software von vielen Anbietern\, die viele Gestaltungsmöglichkeiten bietet. \nIn diesem Kurs sollen die Möglichkeiten anhand der Gestaltungssoftware von CEWE aufgezeigt und deren Benutzung geübt werden. Voraussetzung ist das Vorhandensein eines eigenen Laptops oder Tablets\, vorzugsweise mit Windows 10\, da auf den Tablets nicht alle Funktionen verfügbar sind. Etwas Bildmaterial wäre natürlich auch von Vorteil. Am Ende der vier Termine sollte ein fertiges Fotobuch stehen. \nFolgende Schritte wollen wir gehen: \n\n Vorbereitung: Einband\, Format\, Papier\, Thema\n Layout: Blickfang\, Hintergründe\, eigenes Layout\, Schmuck-Elemente\n Bilder: Formate\, Verläufe\, Rahmen\, Verfremdung\n Text:  Platzierung\, Größe\, Farbe\, Effekte\n\nWann:                                 wöchentlich ab Donnerstag\, 12. Oktober 2023 jeweils 11 Uhr (vier Termine) \nWo:                                      AWO Isselhorst\, Haller Str.104 – Alte Schule \nAnmeldung oder Fragen: ukambach@t-online.de
URL:https://www.heimatverein-isselhorst.de/veranstaltungen/wir-erstellen-ein-fotobuch/
LOCATION:Räume der AWO\, Alte Schule Isselhorst
END:VEVENT
END:VCALENDAR