BEGIN:VCALENDAR
VERSION:2.0
PRODID:-//Dorf- und Heimatverein Isselhorst e.V. - ECPv6.15.20//NONSGML v1.0//EN
CALSCALE:GREGORIAN
METHOD:PUBLISH
X-ORIGINAL-URL:https://www.heimatverein-isselhorst.de
X-WR-CALDESC:Veranstaltungen für Dorf- und Heimatverein Isselhorst e.V.
REFRESH-INTERVAL;VALUE=DURATION:PT1H
X-Robots-Tag:noindex
X-PUBLISHED-TTL:PT1H
BEGIN:VTIMEZONE
TZID:Europe/Berlin
BEGIN:DAYLIGHT
TZOFFSETFROM:+0100
TZOFFSETTO:+0200
TZNAME:CEST
DTSTART:20220327T010000
END:DAYLIGHT
BEGIN:STANDARD
TZOFFSETFROM:+0200
TZOFFSETTO:+0100
TZNAME:CET
DTSTART:20221030T010000
END:STANDARD
BEGIN:DAYLIGHT
TZOFFSETFROM:+0100
TZOFFSETTO:+0200
TZNAME:CEST
DTSTART:20230326T010000
END:DAYLIGHT
BEGIN:STANDARD
TZOFFSETFROM:+0200
TZOFFSETTO:+0100
TZNAME:CET
DTSTART:20231029T010000
END:STANDARD
BEGIN:DAYLIGHT
TZOFFSETFROM:+0100
TZOFFSETTO:+0200
TZNAME:CEST
DTSTART:20240331T010000
END:DAYLIGHT
BEGIN:STANDARD
TZOFFSETFROM:+0200
TZOFFSETTO:+0100
TZNAME:CET
DTSTART:20241027T010000
END:STANDARD
END:VTIMEZONE
BEGIN:VEVENT
DTSTART;VALUE=DATE:20230827
DTEND;VALUE=DATE:20230828
DTSTAMP:20260423T152409
CREATED:20230126T155035Z
LAST-MODIFIED:20230126T155052Z
UID:5775-1693094400-1693180799@www.heimatverein-isselhorst.de
SUMMARY:Feldtag 2023
DESCRIPTION:Feldtag 2023 mit dem PS-Club am Tuxhornweg
URL:https://www.heimatverein-isselhorst.de/veranstaltungen/feldtag-2023/
END:VEVENT
BEGIN:VEVENT
DTSTART;TZID=Europe/Berlin:20230827T100000
DTEND;TZID=Europe/Berlin:20230827T110000
DTSTAMP:20260423T152409
CREATED:20230127T172416Z
LAST-MODIFIED:20230127T172455Z
UID:5779-1693130400-1693134000@www.heimatverein-isselhorst.de
SUMMARY:Plattdeutscher Gottesdienst
DESCRIPTION:Plattdeutscher Gottesdienst \nz.Zt. noch in Planung
URL:https://www.heimatverein-isselhorst.de/veranstaltungen/plattdeutscher-gottesdienst/
LOCATION:Treffpunkt Emsweg 6 in Holtkamp\, Emsweg 6\, Bielefeld\, 33649\, Deutschland
CATEGORIES:Heimatverein Isselhorst
ORGANIZER;CN="Dorf- und Heimatverein Isselhorst e.V.":MAILTO:info@dhvi.de
END:VEVENT
END:VCALENDAR